BEGIN:VCALENDAR
VERSION:2.0
PRODID:-//People of Wekiwa Springs - ECPv6.15.20//NONSGML v1.0//EN
CALSCALE:GREGORIAN
METHOD:PUBLISH
X-ORIGINAL-URL:https://wekiwa-springs.com
X-WR-CALDESC:Events for People of Wekiwa Springs
REFRESH-INTERVAL;VALUE=DURATION:PT1H
X-Robots-Tag:noindex
X-PUBLISHED-TTL:PT1H
BEGIN:VTIMEZONE
TZID:America/New_York
BEGIN:DAYLIGHT
TZOFFSETFROM:-0500
TZOFFSETTO:-0400
TZNAME:EDT
DTSTART:20240310T070000
END:DAYLIGHT
BEGIN:STANDARD
TZOFFSETFROM:-0400
TZOFFSETTO:-0500
TZNAME:EST
DTSTART:20241103T060000
END:STANDARD
BEGIN:DAYLIGHT
TZOFFSETFROM:-0500
TZOFFSETTO:-0400
TZNAME:EDT
DTSTART:20250309T070000
END:DAYLIGHT
BEGIN:STANDARD
TZOFFSETFROM:-0400
TZOFFSETTO:-0500
TZNAME:EST
DTSTART:20251102T060000
END:STANDARD
BEGIN:DAYLIGHT
TZOFFSETFROM:-0500
TZOFFSETTO:-0400
TZNAME:EDT
DTSTART:20260308T070000
END:DAYLIGHT
BEGIN:STANDARD
TZOFFSETFROM:-0400
TZOFFSETTO:-0500
TZNAME:EST
DTSTART:20261101T060000
END:STANDARD
END:VTIMEZONE
BEGIN:VEVENT
DTSTART;TZID=America/New_York:20251111T190000
DTEND;TZID=America/New_York:20251111T200000
DTSTAMP:20260423T072542
CREATED:20250119T195927Z
LAST-MODIFIED:20250211T204704Z
UID:1446-1762887600-1762891200@wekiwa-springs.com
SUMMARY:2025 November Meeting
DESCRIPTION:Come out and hear about fire safety from Orange County’s Station 27 crew. Learn how about fire prevention and health checks available from OCFRD. Below is the POWS Meeting QR Code. Please fill out the form associated with the QR Code if you attend the meeting.
URL:https://wekiwa-springs.com/event/2025-november-meeting/
LOCATION:Wekiwa Baptist Church\, 584 N Wekiwa Springs Road\, Apopka\, FL\, 32712\, United States
CATEGORIES:Meetings
END:VEVENT
END:VCALENDAR