BEGIN:VCALENDAR
VERSION:2.0
PRODID:-//People of Wekiwa Springs - ECPv6.15.20//NONSGML v1.0//EN
CALSCALE:GREGORIAN
METHOD:PUBLISH
X-WR-CALNAME:People of Wekiwa Springs
X-ORIGINAL-URL:https://wekiwa-springs.com
X-WR-CALDESC:Events for People of Wekiwa Springs
REFRESH-INTERVAL;VALUE=DURATION:PT1H
X-Robots-Tag:noindex
X-PUBLISHED-TTL:PT1H
BEGIN:VTIMEZONE
TZID:America/New_York
BEGIN:DAYLIGHT
TZOFFSETFROM:-0500
TZOFFSETTO:-0400
TZNAME:EDT
DTSTART:20240310T070000
END:DAYLIGHT
BEGIN:STANDARD
TZOFFSETFROM:-0400
TZOFFSETTO:-0500
TZNAME:EST
DTSTART:20241103T060000
END:STANDARD
BEGIN:DAYLIGHT
TZOFFSETFROM:-0500
TZOFFSETTO:-0400
TZNAME:EDT
DTSTART:20250309T070000
END:DAYLIGHT
BEGIN:STANDARD
TZOFFSETFROM:-0400
TZOFFSETTO:-0500
TZNAME:EST
DTSTART:20251102T060000
END:STANDARD
BEGIN:DAYLIGHT
TZOFFSETFROM:-0500
TZOFFSETTO:-0400
TZNAME:EDT
DTSTART:20260308T070000
END:DAYLIGHT
BEGIN:STANDARD
TZOFFSETFROM:-0400
TZOFFSETTO:-0500
TZNAME:EST
DTSTART:20261101T060000
END:STANDARD
END:VTIMEZONE
BEGIN:VEVENT
DTSTART;TZID=America/New_York:20251014T190000
DTEND;TZID=America/New_York:20251014T200000
DTSTAMP:20260423T085442
CREATED:20250119T195640Z
LAST-MODIFIED:20250211T204558Z
UID:1444-1760468400-1760472000@wekiwa-springs.com
SUMMARY:2025 October Meeting
DESCRIPTION:Orange County’s Consumer Protection Group will be speaking about current scams to watch out for\, how to guard against fraudulent schemes and where to go to get help. Below is the POWS Meeting QR Code. Please complete the form associated with the QR Code if you attend the meeting.
URL:https://wekiwa-springs.com/event/2025-october-meeting/
LOCATION:Wekiwa Baptist Church\, 584 N Wekiwa Springs Road\, Apopka\, FL\, 32712\, United States
CATEGORIES:Meetings
END:VEVENT
BEGIN:VEVENT
DTSTART;TZID=America/New_York:20251025T160000
DTEND;TZID=America/New_York:20251025T180000
DTSTAMP:20260423T085442
CREATED:20250408T205506Z
LAST-MODIFIED:20250827T205105Z
UID:1544-1761408000-1761415200@wekiwa-springs.com
SUMMARY:2025 POWS Trunk or Treat
DESCRIPTION:Come join us by decorating your trunk and handing out candy for neighborhood kids to celebrate Halloween in our local Trunk or Treat event. There is no cost to do the event. Just show up with your car\, decorations and candy. We will have music and a whole lot of fun to share. Please click the button below to let us know you will be attending and providing candy. \nCar Trunk Registration\n  \n  \nFamily/Child Attending Registration
URL:https://wekiwa-springs.com/event/2025-pows-trunk-or-treat/
LOCATION:Wekiwa Baptist Church\, 584 N Wekiwa Springs Road\, Apopka\, FL\, 32712\, United States
CATEGORIES:Community Events
END:VEVENT
END:VCALENDAR