BEGIN:VCALENDAR
VERSION:2.0
PRODID:-//People of Wekiwa Springs - ECPv6.15.20//NONSGML v1.0//EN
CALSCALE:GREGORIAN
METHOD:PUBLISH
X-WR-CALNAME:People of Wekiwa Springs
X-ORIGINAL-URL:https://wekiwa-springs.com
X-WR-CALDESC:Events for People of Wekiwa Springs
REFRESH-INTERVAL;VALUE=DURATION:PT1H
X-Robots-Tag:noindex
X-PUBLISHED-TTL:PT1H
BEGIN:VTIMEZONE
TZID:America/New_York
BEGIN:DAYLIGHT
TZOFFSETFROM:-0500
TZOFFSETTO:-0400
TZNAME:EDT
DTSTART:20230312T070000
END:DAYLIGHT
BEGIN:STANDARD
TZOFFSETFROM:-0400
TZOFFSETTO:-0500
TZNAME:EST
DTSTART:20231105T060000
END:STANDARD
BEGIN:DAYLIGHT
TZOFFSETFROM:-0500
TZOFFSETTO:-0400
TZNAME:EDT
DTSTART:20240310T070000
END:DAYLIGHT
BEGIN:STANDARD
TZOFFSETFROM:-0400
TZOFFSETTO:-0500
TZNAME:EST
DTSTART:20241103T060000
END:STANDARD
BEGIN:DAYLIGHT
TZOFFSETFROM:-0500
TZOFFSETTO:-0400
TZNAME:EDT
DTSTART:20250309T070000
END:DAYLIGHT
BEGIN:STANDARD
TZOFFSETFROM:-0400
TZOFFSETTO:-0500
TZNAME:EST
DTSTART:20251102T060000
END:STANDARD
END:VTIMEZONE
BEGIN:VEVENT
DTSTART;TZID=America/New_York:20240206T190000
DTEND;TZID=America/New_York:20240206T200000
DTSTAMP:20260424T225058
CREATED:20231220T160050Z
LAST-MODIFIED:20231220T160050Z
UID:494-1707246000-1707249600@wekiwa-springs.com
SUMMARY:February 2024 Meeting
DESCRIPTION:Our February 2024 monthly meeting
URL:https://wekiwa-springs.com/event/february-2024-meeting/
LOCATION:Wekiwa Baptist Church\, 584 N Wekiwa Springs Road\, Apopka\, FL\, 32712\, United States
CATEGORIES:Meetings
END:VEVENT
BEGIN:VEVENT
DTSTART;TZID=America/New_York:20240210T080000
DTEND;TZID=America/New_York:20240210T120000
DTSTAMP:20260424T225058
CREATED:20240103T184610Z
LAST-MODIFIED:20240103T184610Z
UID:531-1707552000-1707566400@wekiwa-springs.com
SUMMARY:February 2024 Clean Up
DESCRIPTION:
URL:https://wekiwa-springs.com/event/february-2024-clean-up/
LOCATION:FL
CATEGORIES:Area Cleanups
END:VEVENT
BEGIN:VEVENT
DTSTART;TZID=America/New_York:20240217T100000
DTEND;TZID=America/New_York:20240217T120000
DTSTAMP:20260424T225058
CREATED:20240102T202147Z
LAST-MODIFIED:20240103T181508Z
UID:522-1708164000-1708171200@wekiwa-springs.com
SUMMARY:POWS Wackiest Cornhole Tourney
DESCRIPTION:The People of Wekiwa Springs (POWS) are hosting a thrilling Cornhole Toss-Off on February 17\, 2024. The event will bring laughter\, friendly competition\, and community spirit to our beloved neighborhood. Whether you’re a seasoned cornhole player or new to the game\, this event is the perfect opportunity to enjoy a few hours of the day outdoors with friends\, family\, and neighbors in our beautiful Wekiwa Springs.
URL:https://wekiwa-springs.com/event/pows-cornhole-tourney-2024/
LOCATION:Votaw and Thompson Lot\, Votaw Road and Thompson Road\, Apopka\, FL\, 32703\, United States
CATEGORIES:Community Events
END:VEVENT
BEGIN:VEVENT
DTSTART;TZID=America/New_York:20240224T080000
DTEND;TZID=America/New_York:20240224T110000
DTSTAMP:20260424T225058
CREATED:20240207T142337Z
LAST-MODIFIED:20240207T142704Z
UID:692-1708761600-1708772400@wekiwa-springs.com
SUMMARY:Martin Street Clean-Up Day
DESCRIPTION:This is a project run by Nick Nesta\, Apopka City Commissioner (Seat 4)\, to help revive the area leading toward’s Apopka High School. \nComm Nesta “as we work to clean up the corner of Martin Street and North Park Avenue. We will be trimming trees\, removing old plants\, planting new plants\, mulching and picking up garbage. Please come out and help clean up our community!” \nPlease come out and help Comm Nesta and our neighbors clean up. \nGet More Info
URL:https://wekiwa-springs.com/event/martin-street-clean-up-day/
LOCATION:Corner of Martin St & N. Park Ave\, Martin St and North Park Ave\, Apopka\, FL\, 32712\, United States
CATEGORIES:Area Cleanups
ATTACH;FMTTYPE=image/jpeg:https://wekiwa-springs.com/wp-content/uploads/2024/02/419074788_703472805256490_7570826000188914998_n.jpg
ORGANIZER;CN="Comm Nick Nesta%2C City of Apopka":MAILTO:NNesta@Apopka.net
END:VEVENT
END:VCALENDAR