BEGIN:VCALENDAR
VERSION:2.0
PRODID:-//People of Wekiwa Springs - ECPv6.15.20//NONSGML v1.0//EN
CALSCALE:GREGORIAN
METHOD:PUBLISH
X-WR-CALNAME:People of Wekiwa Springs
X-ORIGINAL-URL:https://wekiwa-springs.com
X-WR-CALDESC:Events for People of Wekiwa Springs
REFRESH-INTERVAL;VALUE=DURATION:PT1H
X-Robots-Tag:noindex
X-PUBLISHED-TTL:PT1H
BEGIN:VTIMEZONE
TZID:America/New_York
BEGIN:DAYLIGHT
TZOFFSETFROM:-0500
TZOFFSETTO:-0400
TZNAME:EDT
DTSTART:20240310T070000
END:DAYLIGHT
BEGIN:STANDARD
TZOFFSETFROM:-0400
TZOFFSETTO:-0500
TZNAME:EST
DTSTART:20241103T060000
END:STANDARD
BEGIN:DAYLIGHT
TZOFFSETFROM:-0500
TZOFFSETTO:-0400
TZNAME:EDT
DTSTART:20250309T070000
END:DAYLIGHT
BEGIN:STANDARD
TZOFFSETFROM:-0400
TZOFFSETTO:-0500
TZNAME:EST
DTSTART:20251102T060000
END:STANDARD
BEGIN:DAYLIGHT
TZOFFSETFROM:-0500
TZOFFSETTO:-0400
TZNAME:EDT
DTSTART:20260308T070000
END:DAYLIGHT
BEGIN:STANDARD
TZOFFSETFROM:-0400
TZOFFSETTO:-0500
TZNAME:EST
DTSTART:20261101T060000
END:STANDARD
END:VTIMEZONE
BEGIN:VEVENT
DTSTART;TZID=America/New_York:20250909T190000
DTEND;TZID=America/New_York:20250909T200000
DTSTAMP:20260423T144024
CREATED:20250119T195533Z
LAST-MODIFIED:20250211T204350Z
UID:1442-1757444400-1757448000@wekiwa-springs.com
SUMMARY:2025 September Meeting
DESCRIPTION:Katrina Shadix of Bear Warriors United is coming out to show us how to keep bears from destroying our property safely and without hurting the bears. Come out and listen to new info on dealing with bears. Below is the POWS Meeting QR Code. Please fill out the form associated with the QR Code if you attend the meeting.
URL:https://wekiwa-springs.com/event/2025-september-meeting/
LOCATION:Wekiwa Baptist Church\, 584 N Wekiwa Springs Road\, Apopka\, FL\, 32712\, United States
CATEGORIES:Meetings
END:VEVENT
END:VCALENDAR