BEGIN:VCALENDAR
VERSION:2.0
PRODID:-//People of Wekiwa Springs - ECPv6.15.20//NONSGML v1.0//EN
CALSCALE:GREGORIAN
METHOD:PUBLISH
X-WR-CALNAME:People of Wekiwa Springs
X-ORIGINAL-URL:https://wekiwa-springs.com
X-WR-CALDESC:Events for People of Wekiwa Springs
REFRESH-INTERVAL;VALUE=DURATION:PT1H
X-Robots-Tag:noindex
X-PUBLISHED-TTL:PT1H
BEGIN:VTIMEZONE
TZID:America/New_York
BEGIN:DAYLIGHT
TZOFFSETFROM:-0500
TZOFFSETTO:-0400
TZNAME:EDT
DTSTART:20240310T070000
END:DAYLIGHT
BEGIN:STANDARD
TZOFFSETFROM:-0400
TZOFFSETTO:-0500
TZNAME:EST
DTSTART:20241103T060000
END:STANDARD
BEGIN:DAYLIGHT
TZOFFSETFROM:-0500
TZOFFSETTO:-0400
TZNAME:EDT
DTSTART:20250309T070000
END:DAYLIGHT
BEGIN:STANDARD
TZOFFSETFROM:-0400
TZOFFSETTO:-0500
TZNAME:EST
DTSTART:20251102T060000
END:STANDARD
BEGIN:DAYLIGHT
TZOFFSETFROM:-0500
TZOFFSETTO:-0400
TZNAME:EDT
DTSTART:20260308T070000
END:DAYLIGHT
BEGIN:STANDARD
TZOFFSETFROM:-0400
TZOFFSETTO:-0500
TZNAME:EST
DTSTART:20261101T060000
END:STANDARD
END:VTIMEZONE
BEGIN:VEVENT
DTSTART;TZID=America/New_York:20250816T090000
DTEND;TZID=America/New_York:20250816T110000
DTSTAMP:20260423T143952
CREATED:20250708T155143Z
LAST-MODIFIED:20250708T155143Z
UID:1563-1755334800-1755342000@wekiwa-springs.com
SUMMARY:2025 Food Drive Work Day
DESCRIPTION:Come out and help us put together the instructions and bags for dispersal at our local schools for our Food Drive in September.
URL:https://wekiwa-springs.com/event/2025-food-drive-work-day/
LOCATION:Wekiwa Baptist Church\, 584 N Wekiwa Springs Road\, Apopka\, FL\, 32712\, United States
CATEGORIES:Community Events
END:VEVENT
END:VCALENDAR