BEGIN:VCALENDAR
VERSION:2.0
PRODID:-//People of Wekiwa Springs - ECPv6.15.20//NONSGML v1.0//EN
CALSCALE:GREGORIAN
METHOD:PUBLISH
X-WR-CALNAME:People of Wekiwa Springs
X-ORIGINAL-URL:https://wekiwa-springs.com
X-WR-CALDESC:Events for People of Wekiwa Springs
REFRESH-INTERVAL;VALUE=DURATION:PT1H
X-Robots-Tag:noindex
X-PUBLISHED-TTL:PT1H
BEGIN:VTIMEZONE
TZID:America/New_York
BEGIN:DAYLIGHT
TZOFFSETFROM:-0500
TZOFFSETTO:-0400
TZNAME:EDT
DTSTART:20220313T070000
END:DAYLIGHT
BEGIN:STANDARD
TZOFFSETFROM:-0400
TZOFFSETTO:-0500
TZNAME:EST
DTSTART:20221106T060000
END:STANDARD
BEGIN:DAYLIGHT
TZOFFSETFROM:-0500
TZOFFSETTO:-0400
TZNAME:EDT
DTSTART:20230312T070000
END:DAYLIGHT
BEGIN:STANDARD
TZOFFSETFROM:-0400
TZOFFSETTO:-0500
TZNAME:EST
DTSTART:20231105T060000
END:STANDARD
BEGIN:DAYLIGHT
TZOFFSETFROM:-0500
TZOFFSETTO:-0400
TZNAME:EDT
DTSTART:20240310T070000
END:DAYLIGHT
BEGIN:STANDARD
TZOFFSETFROM:-0400
TZOFFSETTO:-0500
TZNAME:EST
DTSTART:20241103T060000
END:STANDARD
BEGIN:DAYLIGHT
TZOFFSETFROM:-0500
TZOFFSETTO:-0400
TZNAME:EDT
DTSTART:20250309T070000
END:DAYLIGHT
BEGIN:STANDARD
TZOFFSETFROM:-0400
TZOFFSETTO:-0500
TZNAME:EST
DTSTART:20251102T060000
END:STANDARD
BEGIN:DAYLIGHT
TZOFFSETFROM:-0500
TZOFFSETTO:-0400
TZNAME:EDT
DTSTART:20260308T070000
END:DAYLIGHT
BEGIN:STANDARD
TZOFFSETFROM:-0400
TZOFFSETTO:-0500
TZNAME:EST
DTSTART:20261101T060000
END:STANDARD
BEGIN:DAYLIGHT
TZOFFSETFROM:-0500
TZOFFSETTO:-0400
TZNAME:EDT
DTSTART:20270314T070000
END:DAYLIGHT
BEGIN:STANDARD
TZOFFSETFROM:-0400
TZOFFSETTO:-0500
TZNAME:EST
DTSTART:20271107T060000
END:STANDARD
END:VTIMEZONE
BEGIN:VEVENT
DTSTART;TZID=America/New_York:20260328T080000
DTEND;TZID=America/New_York:20260328T120000
DTSTAMP:20260423T041048
CREATED:20260213T172102Z
LAST-MODIFIED:20260327T210129Z
UID:1644-1774684800-1774699200@wekiwa-springs.com
SUMMARY:Welch Road Cleanup
DESCRIPTION:
URL:https://wekiwa-springs.com/event/welch-road-cleanup/
LOCATION:Crossroads Church\, 320 E Welch Rd\, Apoka\, FL\, 32712\, United States
CATEGORIES:Area Cleanups
ATTACH;FMTTYPE=image/webp:https://wekiwa-springs.com/wp-content/uploads/2024/01/community-cleanup-event.webp
END:VEVENT
BEGIN:VEVENT
DTSTART;TZID=America/New_York:20250215T080000
DTEND;TZID=America/New_York:20250215T100000
DTSTAMP:20260423T041048
CREATED:20250119T201811Z
LAST-MODIFIED:20250211T195331Z
UID:1450-1739606400-1739613600@wekiwa-springs.com
SUMMARY:2025 February 311 Event
DESCRIPTION:We will be driving around and turning in Orange County violations to 311 (and reporting to Apopka Code Enforcement). We will meet for brunch at Eggs Up in Hunt Club shopping center afterward for fun and to see our results.
URL:https://wekiwa-springs.com/event/2025-february-clean-up/
CATEGORIES:Area Cleanups
END:VEVENT
BEGIN:VEVENT
DTSTART;TZID=America/New_York:20250118T080000
DTEND;TZID=America/New_York:20250118T120000
DTSTAMP:20260423T041048
CREATED:20250119T201714Z
LAST-MODIFIED:20250119T201714Z
UID:1448-1737187200-1737201600@wekiwa-springs.com
SUMMARY:2025 January Clean Up
DESCRIPTION:Meet at the retention pond behind the CVS on the corner of Wekiwa Springs Rd and 436 to do maintenance and add some outlines to the letters on our welcome to wekiwa springs sign.
URL:https://wekiwa-springs.com/event/2025-january-clean-up/
LOCATION:CVS\, 2311 E Semoran Blvd\, Apopka\, FL\, 32703\, United States
CATEGORIES:Area Cleanups,Art Project
END:VEVENT
BEGIN:VEVENT
DTSTART;TZID=America/New_York:20241019T080000
DTEND;TZID=America/New_York:20241019T120000
DTSTAMP:20260423T041048
CREATED:20240103T185330Z
LAST-MODIFIED:20240905T214358Z
UID:547-1729324800-1729339200@wekiwa-springs.com
SUMMARY:October 2024 Clean Up Part 2
DESCRIPTION:Meet at the Votaw Pop-Up park and working west to Christiana
URL:https://wekiwa-springs.com/event/october-2024-clean-up-2/
LOCATION:Votaw and Thompson Lot\, Votaw Road and Thompson Road\, Apopka\, FL\, 32703\, United States
CATEGORIES:Area Cleanups
ATTACH;FMTTYPE=image/webp:https://wekiwa-springs.com/wp-content/uploads/2024/01/community-cleanup-event.webp
END:VEVENT
BEGIN:VEVENT
DTSTART;TZID=America/New_York:20241012T080000
DTEND;TZID=America/New_York:20241012T120000
DTSTAMP:20260423T041048
CREATED:20240905T214105Z
LAST-MODIFIED:20240905T214245Z
UID:1212-1728720000-1728734400@wekiwa-springs.com
SUMMARY:October 2024 Cleanup Part 1
DESCRIPTION:Meet at Lake Pleasant and Votaw\, working to Wekiwa Springs Road and Breezy Heights from starting location
URL:https://wekiwa-springs.com/event/october-2024-cleanup-1/
LOCATION:Corner of Votaw and Lake Pleasant\, 1810 Votaw Rd\, Apopka\, FL\, 32703\, United States
CATEGORIES:Area Cleanups
ATTACH;FMTTYPE=image/webp:https://wekiwa-springs.com/wp-content/uploads/2024/01/community-cleanup-event.webp
END:VEVENT
BEGIN:VEVENT
DTSTART;TZID=America/New_York:20240921T080000
DTEND;TZID=America/New_York:20240921T120000
DTSTAMP:20260423T041048
CREATED:20240103T185110Z
LAST-MODIFIED:20240612T145203Z
UID:541-1726905600-1726920000@wekiwa-springs.com
SUMMARY:September 2024 Clean Up
DESCRIPTION:
URL:https://wekiwa-springs.com/event/september-2024-clean-up/
CATEGORIES:Area Cleanups
ATTACH;FMTTYPE=image/webp:https://wekiwa-springs.com/wp-content/uploads/2024/01/community-cleanup-event.webp
END:VEVENT
BEGIN:VEVENT
DTSTART;TZID=America/New_York:20240615T080000
DTEND;TZID=America/New_York:20240615T120000
DTSTAMP:20260423T041048
CREATED:20240103T185007Z
LAST-MODIFIED:20240905T213545Z
UID:539-1718438400-1718452800@wekiwa-springs.com
SUMMARY:June 2024 Clean Up
DESCRIPTION:Meet at the county property at Votaw and Thompson Rd and we will be picking up garbage on our main corridors.
URL:https://wekiwa-springs.com/event/june-2024-clean-up/
CATEGORIES:Area Cleanups
ATTACH;FMTTYPE=image/webp:https://wekiwa-springs.com/wp-content/uploads/2024/01/community-cleanup-event.webp
END:VEVENT
BEGIN:VEVENT
DTSTART;TZID=America/New_York:20240518T080000
DTEND;TZID=America/New_York:20240518T120000
DTSTAMP:20260423T041048
CREATED:20240103T184903Z
LAST-MODIFIED:20240423T233236Z
UID:537-1716019200-1716033600@wekiwa-springs.com
SUMMARY:May 2024 Clean Up
DESCRIPTION:Be there or be square. We are meeting on S Lake Pleasant Blvd off Rt 436. Please bring your pole saws\, clippers\, gloves\, bags and lots of energy. Let’s make this road beautiful again!
URL:https://wekiwa-springs.com/event/may-2024-clean-up/
CATEGORIES:Area Cleanups
ATTACH;FMTTYPE=image/webp:https://wekiwa-springs.com/wp-content/uploads/2024/01/community-cleanup-event.webp
END:VEVENT
BEGIN:VEVENT
DTSTART;TZID=America/New_York:20240427T080000
DTEND;TZID=America/New_York:20240427T120000
DTSTAMP:20260423T041048
CREATED:20240103T184702Z
LAST-MODIFIED:20240410T151625Z
UID:533-1714204800-1714219200@wekiwa-springs.com
SUMMARY:CANCELLED!!! - April 2024 Clean Up - CANCELLED!!!
DESCRIPTION:
URL:https://wekiwa-springs.com/event/april-2024-clean-up/
LOCATION:Majestic Oaks\, Wekiwa Springs Rd\, Apopka\, FL\, 32712
CATEGORIES:Area Cleanups
ATTACH;FMTTYPE=image/webp:https://wekiwa-springs.com/wp-content/uploads/2024/01/community-cleanup-event.webp
END:VEVENT
BEGIN:VEVENT
DTSTART;TZID=America/New_York:20240330T080000
DTEND;TZID=America/New_York:20240330T120000
DTSTAMP:20260423T041048
CREATED:20240103T184815Z
LAST-MODIFIED:20240304T145157Z
UID:535-1711785600-1711800000@wekiwa-springs.com
SUMMARY:March 2024 Clean Up
DESCRIPTION:Come out and help POWS clean up along Thompson Road. See why those people are out in their blue shirts on the weekends cleaning up. Would we do it if it wasn’t fun? Who knows\, you may meet some fun people in the process! Apopka Key Club will be joining us. Let’s make Thompson shine!
URL:https://wekiwa-springs.com/event/march-2024-clean-up/
CATEGORIES:Area Cleanups
END:VEVENT
BEGIN:VEVENT
DTSTART;TZID=America/New_York:20240224T080000
DTEND;TZID=America/New_York:20240224T110000
DTSTAMP:20260423T041048
CREATED:20240207T142337Z
LAST-MODIFIED:20240207T142704Z
UID:692-1708761600-1708772400@wekiwa-springs.com
SUMMARY:Martin Street Clean-Up Day
DESCRIPTION:This is a project run by Nick Nesta\, Apopka City Commissioner (Seat 4)\, to help revive the area leading toward’s Apopka High School. \nComm Nesta “as we work to clean up the corner of Martin Street and North Park Avenue. We will be trimming trees\, removing old plants\, planting new plants\, mulching and picking up garbage. Please come out and help clean up our community!” \nPlease come out and help Comm Nesta and our neighbors clean up. \nGet More Info
URL:https://wekiwa-springs.com/event/martin-street-clean-up-day/
LOCATION:Corner of Martin St & N. Park Ave\, Martin St and North Park Ave\, Apopka\, FL\, 32712\, United States
CATEGORIES:Area Cleanups
ATTACH;FMTTYPE=image/jpeg:https://wekiwa-springs.com/wp-content/uploads/2024/02/419074788_703472805256490_7570826000188914998_n.jpg
ORGANIZER;CN="Comm Nick Nesta%2C City of Apopka":MAILTO:NNesta@Apopka.net
END:VEVENT
BEGIN:VEVENT
DTSTART;TZID=America/New_York:20240210T080000
DTEND;TZID=America/New_York:20240210T120000
DTSTAMP:20260423T041048
CREATED:20240103T184610Z
LAST-MODIFIED:20240103T184610Z
UID:531-1707552000-1707566400@wekiwa-springs.com
SUMMARY:February 2024 Clean Up
DESCRIPTION:
URL:https://wekiwa-springs.com/event/february-2024-clean-up/
CATEGORIES:Area Cleanups
END:VEVENT
BEGIN:VEVENT
DTSTART;TZID=America/New_York:20240120T080000
DTEND;TZID=America/New_York:20240120T120000
DTSTAMP:20260423T041048
CREATED:20240103T184427Z
LAST-MODIFIED:20240103T184427Z
UID:528-1705737600-1705752000@wekiwa-springs.com
SUMMARY:January 2024 Clean Up
DESCRIPTION:Come join us to clean up the right of way across from Clay Springs Elementary. We will be adding an art feature too. Come help beautify our kid’s way to school.
URL:https://wekiwa-springs.com/event/january-2024-clean-up/
LOCATION:Clay Springs Elementary School\, 555 N Wekiwa Springs Rd\, Apopka\, FL\, 32712\, United States
CATEGORIES:Area Cleanups
END:VEVENT
BEGIN:VEVENT
DTSTART;TZID=America/New_York:20231104T070000
DTEND;TZID=America/New_York:20231104T220000
DTSTAMP:20260423T041048
CREATED:20231031T115109Z
LAST-MODIFIED:20231031T115109Z
UID:319-1699081200-1699135200@wekiwa-springs.com
SUMMARY:Wekiwa Springs Final Cleanup 2023
DESCRIPTION:Come join us to clean up Votaw Road one last time before the judges get there. We’ll be making teams to take in garbage and grab trash along the way to make Wekiwa Springs as attractive as possible. Please join us!
URL:https://wekiwa-springs.com/event/wekiwa-springs-final-cleanup-2023/
LOCATION:Votaw and Thompson Lot\, Votaw Road and Thompson Road\, Apopka\, FL\, 32703\, United States
CATEGORIES:Area Cleanups
END:VEVENT
BEGIN:VEVENT
DTSTART;TZID=America/New_York:20231028T080000
DTEND;TZID=America/New_York:20231028T120000
DTSTAMP:20260423T041048
CREATED:20231006T205731Z
LAST-MODIFIED:20231006T205731Z
UID:143-1698480000-1698494400@wekiwa-springs.com
SUMMARY:Final Cleanup
DESCRIPTION:Come out and help us do the final walk through as well as some last minute cleanup at Lovell Terrace
URL:https://wekiwa-springs.com/event/final-cleanup/
LOCATION:Lovell Terrace\, Lena Drive\, Apopka\, FL\, 32703\, United States
CATEGORIES:Area Cleanups
ATTACH;FMTTYPE=image/png:https://wekiwa-springs.com/wp-content/uploads/2023/10/cropped-people-of-wekiva-logo.png
END:VEVENT
BEGIN:VEVENT
DTSTART;TZID=America/New_York:20231021T080000
DTEND;TZID=America/New_York:20231021T120000
DTSTAMP:20260423T041048
CREATED:20231006T205426Z
LAST-MODIFIED:20231006T205426Z
UID:139-1697875200-1697889600@wekiwa-springs.com
SUMMARY:Cleanup at Bent Oak
DESCRIPTION:Come join us in our cleanup on the Votaw Rd side of Bent Oak.
URL:https://wekiwa-springs.com/event/cleanup-at-bent-oak/
LOCATION:Bent Oak\, Votaw Road\, Apopka\, FL\, 32703\, United States
CATEGORIES:Area Cleanups
ATTACH;FMTTYPE=image/jpeg:https://wekiwa-springs.com/wp-content/uploads/2023/10/bent-oak.jpg
END:VEVENT
BEGIN:VEVENT
DTSTART;TZID=America/New_York:20231014T080000
DTEND;TZID=America/New_York:20231014T120000
DTSTAMP:20260423T041048
CREATED:20231006T175928Z
LAST-MODIFIED:20231007T005632Z
UID:63-1697270400-1697284800@wekiwa-springs.com
SUMMARY:Cleanup at Oaks on the Lake
DESCRIPTION:Come out and help us cleanup the entrance to Oaks on the Lake on Votaw Road. Less than a month left until our Corridor of the Year contest.
URL:https://wekiwa-springs.com/event/cleanup-at-oaks-on-the-lake/
LOCATION:Oaks on the Lake\, Via Florence Drive\, Apopka\, FL\, 32703\, United States
CATEGORIES:Area Cleanups
ATTACH;FMTTYPE=image/jpeg:https://wekiwa-springs.com/wp-content/uploads/2023/10/ootl-sign.jpg
END:VEVENT
BEGIN:VEVENT
DTSTART;TZID=America/New_York:20231007T080000
DTEND;TZID=America/New_York:20231007T120000
DTSTAMP:20260423T041048
CREATED:20231006T214751Z
LAST-MODIFIED:20231007T005615Z
UID:58-1696665600-1696680000@wekiwa-springs.com
SUMMARY:Cleanup at Lovell Terrace
DESCRIPTION:Join us at 8am for a cleanup at Lovell Terrace this weekend. Let’s brighten this corner of Wekiwa Springs! \n 
URL:https://wekiwa-springs.com/event/cleanup-at-lovell-terrace/
LOCATION:Lovell Terrace\, Lena Drive\, Apopka\, FL\, 32703\, United States
CATEGORIES:Area Cleanups
ATTACH;FMTTYPE=image/jpeg:https://wekiwa-springs.com/wp-content/uploads/2023/10/lt-sign.jpg
END:VEVENT
END:VCALENDAR