BEGIN:VCALENDAR
VERSION:2.0
PRODID:-//People of Wekiwa Springs - ECPv6.15.20//NONSGML v1.0//EN
CALSCALE:GREGORIAN
METHOD:PUBLISH
X-ORIGINAL-URL:https://wekiwa-springs.com
X-WR-CALDESC:Events for People of Wekiwa Springs
REFRESH-INTERVAL;VALUE=DURATION:PT1H
X-Robots-Tag:noindex
X-PUBLISHED-TTL:PT1H
BEGIN:VTIMEZONE
TZID:America/New_York
BEGIN:DAYLIGHT
TZOFFSETFROM:-0500
TZOFFSETTO:-0400
TZNAME:EDT
DTSTART:20220313T070000
END:DAYLIGHT
BEGIN:STANDARD
TZOFFSETFROM:-0400
TZOFFSETTO:-0500
TZNAME:EST
DTSTART:20221106T060000
END:STANDARD
BEGIN:DAYLIGHT
TZOFFSETFROM:-0500
TZOFFSETTO:-0400
TZNAME:EDT
DTSTART:20230312T070000
END:DAYLIGHT
BEGIN:STANDARD
TZOFFSETFROM:-0400
TZOFFSETTO:-0500
TZNAME:EST
DTSTART:20231105T060000
END:STANDARD
BEGIN:DAYLIGHT
TZOFFSETFROM:-0500
TZOFFSETTO:-0400
TZNAME:EDT
DTSTART:20240310T070000
END:DAYLIGHT
BEGIN:STANDARD
TZOFFSETFROM:-0400
TZOFFSETTO:-0500
TZNAME:EST
DTSTART:20241103T060000
END:STANDARD
END:VTIMEZONE
BEGIN:VEVENT
DTSTART;TZID=America/New_York:20231014T080000
DTEND;TZID=America/New_York:20231014T120000
DTSTAMP:20260425T123113
CREATED:20231006T175928Z
LAST-MODIFIED:20231007T005632Z
UID:63-1697270400-1697284800@wekiwa-springs.com
SUMMARY:Cleanup at Oaks on the Lake
DESCRIPTION:Come out and help us cleanup the entrance to Oaks on the Lake on Votaw Road. Less than a month left until our Corridor of the Year contest.
URL:https://wekiwa-springs.com/event/cleanup-at-oaks-on-the-lake/
LOCATION:Oaks on the Lake\, Via Florence Drive\, Apopka\, FL\, 32703\, United States
CATEGORIES:Area Cleanups
ATTACH;FMTTYPE=image/jpeg:https://wekiwa-springs.com/wp-content/uploads/2023/10/ootl-sign.jpg
END:VEVENT
END:VCALENDAR