BEGIN:VCALENDAR
VERSION:2.0
PRODID:-//People of Wekiwa Springs - ECPv6.15.20//NONSGML v1.0//EN
CALSCALE:GREGORIAN
METHOD:PUBLISH
X-WR-CALNAME:People of Wekiwa Springs
X-ORIGINAL-URL:https://wekiwa-springs.com
X-WR-CALDESC:Events for People of Wekiwa Springs
REFRESH-INTERVAL;VALUE=DURATION:PT1H
X-Robots-Tag:noindex
X-PUBLISHED-TTL:PT1H
BEGIN:VTIMEZONE
TZID:America/New_York
BEGIN:DAYLIGHT
TZOFFSETFROM:-0500
TZOFFSETTO:-0400
TZNAME:EDT
DTSTART:20230312T070000
END:DAYLIGHT
BEGIN:STANDARD
TZOFFSETFROM:-0400
TZOFFSETTO:-0500
TZNAME:EST
DTSTART:20231105T060000
END:STANDARD
BEGIN:DAYLIGHT
TZOFFSETFROM:-0500
TZOFFSETTO:-0400
TZNAME:EDT
DTSTART:20240310T070000
END:DAYLIGHT
BEGIN:STANDARD
TZOFFSETFROM:-0400
TZOFFSETTO:-0500
TZNAME:EST
DTSTART:20241103T060000
END:STANDARD
BEGIN:DAYLIGHT
TZOFFSETFROM:-0500
TZOFFSETTO:-0400
TZNAME:EDT
DTSTART:20250309T070000
END:DAYLIGHT
BEGIN:STANDARD
TZOFFSETFROM:-0400
TZOFFSETTO:-0500
TZNAME:EST
DTSTART:20251102T060000
END:STANDARD
BEGIN:DAYLIGHT
TZOFFSETFROM:-0500
TZOFFSETTO:-0400
TZNAME:EDT
DTSTART:20260308T070000
END:DAYLIGHT
BEGIN:STANDARD
TZOFFSETFROM:-0400
TZOFFSETTO:-0500
TZNAME:EST
DTSTART:20261101T060000
END:STANDARD
END:VTIMEZONE
BEGIN:VEVENT
DTSTART;TZID=America/New_York:20250118T080000
DTEND;TZID=America/New_York:20250118T120000
DTSTAMP:20260423T072544
CREATED:20250119T201714Z
LAST-MODIFIED:20250119T201714Z
UID:1448-1737187200-1737201600@wekiwa-springs.com
SUMMARY:2025 January Clean Up
DESCRIPTION:Meet at the retention pond behind the CVS on the corner of Wekiwa Springs Rd and 436 to do maintenance and add some outlines to the letters on our welcome to wekiwa springs sign.
URL:https://wekiwa-springs.com/event/2025-january-clean-up/
LOCATION:CVS\, 2311 E Semoran Blvd\, Apopka\, FL\, 32703\, United States
CATEGORIES:Area Cleanups,Art Project
END:VEVENT
BEGIN:VEVENT
DTSTART;TZID=America/New_York:20241005T073000
DTEND;TZID=America/New_York:20241005T120000
DTSTAMP:20260423T072544
CREATED:20240905T213425Z
LAST-MODIFIED:20240905T214526Z
UID:1210-1728113400-1728129600@wekiwa-springs.com
SUMMARY:10-05-24 Art Project Day
DESCRIPTION:Exact activities to be determined\, but we will be starting the art project this day
URL:https://wekiwa-springs.com/event/10-05-24-art-project-day/
LOCATION:CVS\, 2311 E Semoran Blvd\, Apopka\, FL\, 32703\, United States
CATEGORIES:Art Project
ATTACH;FMTTYPE=image/jpeg:https://wekiwa-springs.com/wp-content/uploads/2024/09/art-projects.jpg
END:VEVENT
BEGIN:VEVENT
DTSTART;TZID=America/New_York:20240928T073000
DTEND;TZID=America/New_York:20240928T120000
DTSTAMP:20260423T072544
CREATED:20240905T213223Z
LAST-MODIFIED:20240911T161751Z
UID:1205-1727508600-1727524800@wekiwa-springs.com
SUMMARY:09-28-24 Art Project
DESCRIPTION:Come out and help us start art project for the retention pond fence behind the CVS on Wekiwa Springs Rd and Rte 436. We will break up into teams and start the project. Sign up to reserve your place.
URL:https://wekiwa-springs.com/event/09-28-24-art-project-cleanup/
LOCATION:CVS\, 2311 E Semoran Blvd\, Apopka\, FL\, 32703\, United States
CATEGORIES:Art Project
ATTACH;FMTTYPE=image/jpeg:https://wekiwa-springs.com/wp-content/uploads/2024/09/art-projects.jpg
END:VEVENT
END:VCALENDAR