BEGIN:VCALENDAR
VERSION:2.0
PRODID:-//People of Wekiwa Springs - ECPv6.15.20//NONSGML v1.0//EN
CALSCALE:GREGORIAN
METHOD:PUBLISH
X-WR-CALNAME:People of Wekiwa Springs
X-ORIGINAL-URL:https://wekiwa-springs.com
X-WR-CALDESC:Events for People of Wekiwa Springs
REFRESH-INTERVAL;VALUE=DURATION:PT1H
X-Robots-Tag:noindex
X-PUBLISHED-TTL:PT1H
BEGIN:VTIMEZONE
TZID:America/New_York
BEGIN:DAYLIGHT
TZOFFSETFROM:-0500
TZOFFSETTO:-0400
TZNAME:EDT
DTSTART:20250309T070000
END:DAYLIGHT
BEGIN:STANDARD
TZOFFSETFROM:-0400
TZOFFSETTO:-0500
TZNAME:EST
DTSTART:20251102T060000
END:STANDARD
BEGIN:DAYLIGHT
TZOFFSETFROM:-0500
TZOFFSETTO:-0400
TZNAME:EDT
DTSTART:20260308T070000
END:DAYLIGHT
BEGIN:STANDARD
TZOFFSETFROM:-0400
TZOFFSETTO:-0500
TZNAME:EST
DTSTART:20261101T060000
END:STANDARD
BEGIN:DAYLIGHT
TZOFFSETFROM:-0500
TZOFFSETTO:-0400
TZNAME:EDT
DTSTART:20270314T070000
END:DAYLIGHT
BEGIN:STANDARD
TZOFFSETFROM:-0400
TZOFFSETTO:-0500
TZNAME:EST
DTSTART:20271107T060000
END:STANDARD
END:VTIMEZONE
BEGIN:VEVENT
DTSTART;TZID=America/New_York:20260530T080000
DTEND;TZID=America/New_York:20260530T120000
DTSTAMP:20260422T183404
CREATED:20260419T182456Z
LAST-MODIFIED:20260419T210040Z
UID:1684-1780128000-1780142400@wekiwa-springs.com
SUMMARY:2026 2nd Annual Rummage Sale
DESCRIPTION:Collecting donations of household items starting immediately. \nSend an email to the pows email address to arrange pickup or drop off Donate Items\nOr\nCall Tammy Garich 847-445-7821 to arrange pickup or drop off \nProceeds benefit POWS and the Wekiwa Spring Baptist Church. \nFree Pancake Breakfast for attendees \nVolunteers needed to sort and sell stuff on the Friday before the event and the day of event. Please fill out the registration button if you can volunteer for one or both of the days. If just attending the event\, please do not fill out the registration form.
URL:https://wekiwa-springs.com/event/2026-2nd-annual-rummage-sale/
LOCATION:Wekiwa Baptist Church\, 584 N Wekiwa Springs Road\, Apopka\, FL\, 32712\, United States
CATEGORIES:Community Events
ATTACH;FMTTYPE=image/jpeg:https://wekiwa-springs.com/wp-content/uploads/2026/04/2026-Rummage-Sale-review.jpg
END:VEVENT
END:VCALENDAR