BEGIN:VCALENDAR
VERSION:2.0
PRODID:-//People of Wekiwa Springs - ECPv6.15.20//NONSGML v1.0//EN
CALSCALE:GREGORIAN
METHOD:PUBLISH
X-ORIGINAL-URL:https://wekiwa-springs.com
X-WR-CALDESC:Events for People of Wekiwa Springs
REFRESH-INTERVAL;VALUE=DURATION:PT1H
X-Robots-Tag:noindex
X-PUBLISHED-TTL:PT1H
BEGIN:VTIMEZONE
TZID:America/New_York
BEGIN:DAYLIGHT
TZOFFSETFROM:-0500
TZOFFSETTO:-0400
TZNAME:EDT
DTSTART:20240310T070000
END:DAYLIGHT
BEGIN:STANDARD
TZOFFSETFROM:-0400
TZOFFSETTO:-0500
TZNAME:EST
DTSTART:20241103T060000
END:STANDARD
BEGIN:DAYLIGHT
TZOFFSETFROM:-0500
TZOFFSETTO:-0400
TZNAME:EDT
DTSTART:20250309T070000
END:DAYLIGHT
BEGIN:STANDARD
TZOFFSETFROM:-0400
TZOFFSETTO:-0500
TZNAME:EST
DTSTART:20251102T060000
END:STANDARD
BEGIN:DAYLIGHT
TZOFFSETFROM:-0500
TZOFFSETTO:-0400
TZNAME:EDT
DTSTART:20260308T070000
END:DAYLIGHT
BEGIN:STANDARD
TZOFFSETFROM:-0400
TZOFFSETTO:-0500
TZNAME:EST
DTSTART:20261101T060000
END:STANDARD
END:VTIMEZONE
BEGIN:VEVENT
DTSTART;TZID=America/New_York:20250302T193000
DTEND;TZID=America/New_York:20250302T210000
DTSTAMP:20260424T003720
CREATED:20250213T163126Z
LAST-MODIFIED:20250213T163257Z
UID:1524-1740943800-1740949200@wekiwa-springs.com
SUMMARY:2025 Unity in Community Spring Concert Night 2
DESCRIPTION:Come out and see the 2025 Annual Unity in Community Spring Concert by your own community band (@Apopka Community Center). \nTiclets are $10 for adults $5 for children and students with ID. Tickets are cash only.
URL:https://wekiwa-springs.com/event/2025-unity-in-community-spring-concert-night-2/
LOCATION:Apopka Community Center\, 519 S. Central Avenue\, Apopka\, FL\, 32703\, United States
CATEGORIES:Community Events
END:VEVENT
END:VCALENDAR