BEGIN:VCALENDAR
VERSION:2.0
PRODID:-//People of Wekiwa Springs - ECPv6.15.20//NONSGML v1.0//EN
CALSCALE:GREGORIAN
METHOD:PUBLISH
X-ORIGINAL-URL:https://wekiwa-springs.com
X-WR-CALDESC:Events for People of Wekiwa Springs
REFRESH-INTERVAL;VALUE=DURATION:PT1H
X-Robots-Tag:noindex
X-PUBLISHED-TTL:PT1H
BEGIN:VTIMEZONE
TZID:America/New_York
BEGIN:DAYLIGHT
TZOFFSETFROM:-0500
TZOFFSETTO:-0400
TZNAME:EDT
DTSTART:20240310T070000
END:DAYLIGHT
BEGIN:STANDARD
TZOFFSETFROM:-0400
TZOFFSETTO:-0500
TZNAME:EST
DTSTART:20241103T060000
END:STANDARD
BEGIN:DAYLIGHT
TZOFFSETFROM:-0500
TZOFFSETTO:-0400
TZNAME:EDT
DTSTART:20250309T070000
END:DAYLIGHT
BEGIN:STANDARD
TZOFFSETFROM:-0400
TZOFFSETTO:-0500
TZNAME:EST
DTSTART:20251102T060000
END:STANDARD
BEGIN:DAYLIGHT
TZOFFSETFROM:-0500
TZOFFSETTO:-0400
TZNAME:EDT
DTSTART:20260308T070000
END:DAYLIGHT
BEGIN:STANDARD
TZOFFSETFROM:-0400
TZOFFSETTO:-0500
TZNAME:EST
DTSTART:20261101T060000
END:STANDARD
END:VTIMEZONE
BEGIN:VEVENT
DTSTART;TZID=America/New_York:20250223T193000
DTEND;TZID=America/New_York:20250223T210000
DTSTAMP:20260424T003720
CREATED:20250213T162751Z
LAST-MODIFIED:20250213T163327Z
UID:1519-1740339000-1740344400@wekiwa-springs.com
SUMMARY:2025 Unity in Community Spring Concert Night 1
DESCRIPTION:2025 Annual Unity in Community Spring Concert is being held on Sunday\, Feb 23 (@ Apopka Calvary Church of the Nazarene)
URL:https://wekiwa-springs.com/event/2025-unity-in-community-spring-concert-1/
LOCATION:Apopka Church of the Nazarene\, 750 Roger Williams Blvd\, Apopka\, FL\, 32703\, United States
CATEGORIES:Community Events
END:VEVENT
END:VCALENDAR